BEGIN:VCALENDAR
VERSION:2.0
PRODID:-//Sophicity/Tribune/Tyronza, AR
BEGIN:VEVENT
DTSTAMP:20260426T001507Z
UID:ef464d3b-9bd8-4070-a2b1-76b6151cbbcf-3824
DTSTART:20220706T130000Z
DTEND:20220706T140000Z
CLASS:PUBLIC
SUMMARY:Court Session
END:VEVENT
END:VCALENDAR
