BEGIN:VCALENDAR
VERSION:2.0
PRODID:-//Sophicity/Tribune/Tyronza, AR
BEGIN:VEVENT
DTSTAMP:20260422T085652Z
UID:ef464d3b-9bd8-4070-a2b1-76b6151cbbcf-3782
DTSTART:20220919T230000Z
DTEND:20220920T010000Z
CLASS:PUBLIC
SUMMARY:Fire Department Meeting
END:VEVENT
END:VCALENDAR
