BEGIN:VCALENDAR
VERSION:2.0
PRODID:-//Sophicity/Tribune/Tyronza, AR
BEGIN:VEVENT
DTSTAMP:20260422T202019Z
UID:ef464d3b-9bd8-4070-a2b1-76b6151cbbcf-3779
DTSTART:20220620T230000Z
DTEND:20220621T010000Z
CLASS:PUBLIC
SUMMARY:Fire Department Meeting
END:VEVENT
END:VCALENDAR
